BEGIN:VCALENDAR
VERSION:2.0
PRODID:icalendar-ruby
CALSCALE:GREGORIAN
BEGIN:VEVENT
DTSTAMP:20260424T082802Z
UID:712b71f7-dd5f-4f8a-ab55-07c8c3a8ae04
DTSTART;VALUE=DATE:20250212
DESCRIPTION:Property ID# 586445\, Time: 2:00PM
SUMMARY:Auction for 
END:VEVENT
END:VCALENDAR
